BEGIN:VCALENDAR
VERSION:2.0
PRODID:-//Armenian Apostolic Church of Whitinsville - ECPv6.15.20//NONSGML v1.0//EN
CALSCALE:GREGORIAN
METHOD:PUBLISH
X-WR-CALNAME:Armenian Apostolic Church of Whitinsville
X-ORIGINAL-URL:https://armenianchurchofwhit.org
X-WR-CALDESC:Events for Armenian Apostolic Church of Whitinsville
REFRESH-INTERVAL;VALUE=DURATION:PT1H
X-Robots-Tag:noindex
X-PUBLISHED-TTL:PT1H
BEGIN:VTIMEZONE
TZID:America/New_York
BEGIN:DAYLIGHT
TZOFFSETFROM:-0500
TZOFFSETTO:-0400
TZNAME:EDT
DTSTART:20230312T070000
END:DAYLIGHT
BEGIN:STANDARD
TZOFFSETFROM:-0400
TZOFFSETTO:-0500
TZNAME:EST
DTSTART:20231105T060000
END:STANDARD
BEGIN:DAYLIGHT
TZOFFSETFROM:-0500
TZOFFSETTO:-0400
TZNAME:EDT
DTSTART:20240310T070000
END:DAYLIGHT
BEGIN:STANDARD
TZOFFSETFROM:-0400
TZOFFSETTO:-0500
TZNAME:EST
DTSTART:20241103T060000
END:STANDARD
BEGIN:DAYLIGHT
TZOFFSETFROM:-0500
TZOFFSETTO:-0400
TZNAME:EDT
DTSTART:20250309T070000
END:DAYLIGHT
BEGIN:STANDARD
TZOFFSETFROM:-0400
TZOFFSETTO:-0500
TZNAME:EST
DTSTART:20251102T060000
END:STANDARD
END:VTIMEZONE
BEGIN:VEVENT
DTSTART;VALUE=DATE:20241009
DTEND;VALUE=DATE:20241010
DTSTAMP:20260423T102538
CREATED:20240121T235832Z
LAST-MODIFIED:20240916T184214Z
UID:2454-1728432000-1728518399@armenianchurchofwhit.org
SUMMARY:Pontifical Visit of His Holiness Aram I to Whitinsville
DESCRIPTION:His Holiness Aram I\, Catholicos of the Armenian Church\, Holy See of Cilicia will be visiting Whitinsville on Wednesday\, October 9th during his Pontifical Visit to the US.\n\n\nSchedule of Events\n4pm: Prayer Service at Armenian Heritage Monument in Pine Grove Cemetery\n4:30pm: Hrashapar (Welcoming Service) at Soorp Asdvadzadain Church\, 315 Church Street\, Whitinsville. Reception to follow in the Church Hall. All are welcome!
URL:https://armenianchurchofwhit.org/event/pontifical-visit/
ATTACH;FMTTYPE=image/jpeg:https://armenianchurchofwhit.org/wp-content/uploads/2024/09/Pontifical-Visit-2024-Flyer.jpg
END:VEVENT
END:VCALENDAR