BEGIN:VCALENDAR
VERSION:2.0
PRODID:-//Armenian Apostolic Church of Whitinsville - ECPv6.15.20//NONSGML v1.0//EN
CALSCALE:GREGORIAN
METHOD:PUBLISH
X-WR-CALNAME:Armenian Apostolic Church of Whitinsville
X-ORIGINAL-URL:https://armenianchurchofwhit.org
X-WR-CALDESC:Events for Armenian Apostolic Church of Whitinsville
REFRESH-INTERVAL;VALUE=DURATION:PT1H
X-Robots-Tag:noindex
X-PUBLISHED-TTL:PT1H
BEGIN:VTIMEZONE
TZID:America/New_York
BEGIN:DAYLIGHT
TZOFFSETFROM:-0500
TZOFFSETTO:-0400
TZNAME:EDT
DTSTART:20230312T070000
END:DAYLIGHT
BEGIN:STANDARD
TZOFFSETFROM:-0400
TZOFFSETTO:-0500
TZNAME:EST
DTSTART:20231105T060000
END:STANDARD
BEGIN:DAYLIGHT
TZOFFSETFROM:-0500
TZOFFSETTO:-0400
TZNAME:EDT
DTSTART:20240310T070000
END:DAYLIGHT
BEGIN:STANDARD
TZOFFSETFROM:-0400
TZOFFSETTO:-0500
TZNAME:EST
DTSTART:20241103T060000
END:STANDARD
BEGIN:DAYLIGHT
TZOFFSETFROM:-0500
TZOFFSETTO:-0400
TZNAME:EDT
DTSTART:20250309T070000
END:DAYLIGHT
BEGIN:STANDARD
TZOFFSETFROM:-0400
TZOFFSETTO:-0500
TZNAME:EST
DTSTART:20251102T060000
END:STANDARD
BEGIN:DAYLIGHT
TZOFFSETFROM:-0500
TZOFFSETTO:-0400
TZNAME:EDT
DTSTART:20260308T070000
END:DAYLIGHT
BEGIN:STANDARD
TZOFFSETFROM:-0400
TZOFFSETTO:-0500
TZNAME:EST
DTSTART:20261101T060000
END:STANDARD
END:VTIMEZONE
BEGIN:VEVENT
DTSTART;TZID=America/New_York:20250105T100000
DTEND;TZID=America/New_York:20250105T110000
DTSTAMP:20260422T175411
CREATED:20241213T214506Z
LAST-MODIFIED:20241213T214506Z
UID:3380-1736071200-1736074800@armenianchurchofwhit.org
SUMMARY:Morning Service
DESCRIPTION:
URL:https://armenianchurchofwhit.org/event/morning-service/
END:VEVENT
BEGIN:VEVENT
DTSTART;TZID=America/New_York:20250101T110000
DTEND;TZID=America/New_York:20250101T120000
DTSTAMP:20260422T175411
CREATED:20241213T214403Z
LAST-MODIFIED:20241213T214403Z
UID:3378-1735729200-1735732800@armenianchurchofwhit.org
SUMMARY:New Year's Day Morning Prayer Service
DESCRIPTION:
URL:https://armenianchurchofwhit.org/event/new-years-day-morning-prayer-service/
END:VEVENT
BEGIN:VEVENT
DTSTART;TZID=America/New_York:20241224T180000
DTEND;TZID=America/New_York:20241224T190000
DTSTAMP:20260422T175411
CREATED:20240819T172900Z
LAST-MODIFIED:20241223T001549Z
UID:3025-1735063200-1735066800@armenianchurchofwhit.org
SUMMARY:Christmas Eve Candlelight Service and Carols
DESCRIPTION:
URL:https://armenianchurchofwhit.org/event/christmas-eve-candlelight-service-and-carols/
ATTACH;FMTTYPE=image/jpeg:https://armenianchurchofwhit.org/wp-content/uploads/2024/12/xmas-eve-carols.jpg
END:VEVENT
BEGIN:VEVENT
DTSTART;TZID=America/New_York:20241222T120000
DTEND;TZID=America/New_York:20241222T130000
DTSTAMP:20260422T175411
CREATED:20241213T214226Z
LAST-MODIFIED:20241213T214226Z
UID:3376-1734868800-1734872400@armenianchurchofwhit.org
SUMMARY:Christmas Party Hosted by our Sunday School
DESCRIPTION:
URL:https://armenianchurchofwhit.org/event/christmas-party-hosted-by-our-sunday-school/
END:VEVENT
BEGIN:VEVENT
DTSTART;TZID=America/New_York:20241207T100000
DTEND;TZID=America/New_York:20241207T163000
DTSTAMP:20260422T175411
CREATED:20240323T144612Z
LAST-MODIFIED:20241108T232041Z
UID:2707-1733565600-1733589000@armenianchurchofwhit.org
SUMMARY:Annual Church Bazaar
DESCRIPTION:
URL:https://armenianchurchofwhit.org/event/annual-church-bazaar/
ATTACH;FMTTYPE=image/jpeg:https://armenianchurchofwhit.org/wp-content/uploads/2024/11/Bazaar-2024.jpg
END:VEVENT
BEGIN:VEVENT
DTSTART;TZID=America/New_York:20241103T120000
DTEND;TZID=America/New_York:20241103T140000
DTSTAMP:20260422T175411
CREATED:20240323T144530Z
LAST-MODIFIED:20241005T235324Z
UID:2705-1730635200-1730642400@armenianchurchofwhit.org
SUMMARY:Thanksgiving Celebration Dinner
DESCRIPTION:Please bring a canned good donation for the NAC Food Pantry!!!
URL:https://armenianchurchofwhit.org/event/thanksgiving-luncheon/
ATTACH;FMTTYPE=image/jpeg:https://armenianchurchofwhit.org/wp-content/uploads/2024/10/thanksgiving-dinner-2024.jpg
END:VEVENT
BEGIN:VEVENT
DTSTART;TZID=America/New_York:20241102T133000
DTEND;TZID=America/New_York:20241102T143000
DTSTAMP:20260422T175411
CREATED:20240923T202615Z
LAST-MODIFIED:20240923T202836Z
UID:3148-1730554200-1730557800@armenianchurchofwhit.org
SUMMARY:Armenian Heritage Memorial Dedication at Pine Grove
DESCRIPTION:The dedication service will take place on Saturday\, November 3 at 1:30 pm in Pine Grove Cemetery under the auspices of H.E. Archbishop Anoushavan Tanielian\, Prelate of the Eastern United States. Everyone is invited to attend this historic occasion.
URL:https://armenianchurchofwhit.org/event/armenian-heritage-memorial-dedication-at-pine-grove/
ATTACH;FMTTYPE=image/jpeg:https://armenianchurchofwhit.org/wp-content/uploads/2024/09/20240908_150354-scaled.jpg
END:VEVENT
BEGIN:VEVENT
DTSTART;TZID=America/New_York:20241012T183000
DTEND;TZID=America/New_York:20241012T213000
DTSTAMP:20260422T175411
CREATED:20240923T204106Z
LAST-MODIFIED:20240923T204229Z
UID:3151-1728757800-1728768600@armenianchurchofwhit.org
SUMMARY:Concert in Honor of Pontifical Visit of His Holiness Aram I
DESCRIPTION:Click Here for Tickets and Information:  2024 Pontifical Concert – Armenian Prelacy
URL:https://armenianchurchofwhit.org/event/concert-in-honor-of-pontifical-visit-of-his-holiness-aram-i/
ATTACH;FMTTYPE=image/jpeg:https://armenianchurchofwhit.org/wp-content/uploads/2024/09/Aram-1-Concert.jpg
END:VEVENT
BEGIN:VEVENT
DTSTART;VALUE=DATE:20241009
DTEND;VALUE=DATE:20241010
DTSTAMP:20260422T175411
CREATED:20240121T235832Z
LAST-MODIFIED:20240916T184214Z
UID:2454-1728432000-1728518399@armenianchurchofwhit.org
SUMMARY:Pontifical Visit of His Holiness Aram I to Whitinsville
DESCRIPTION:His Holiness Aram I\, Catholicos of the Armenian Church\, Holy See of Cilicia will be visiting Whitinsville on Wednesday\, October 9th during his Pontifical Visit to the US.\n\n\nSchedule of Events\n4pm: Prayer Service at Armenian Heritage Monument in Pine Grove Cemetery\n4:30pm: Hrashapar (Welcoming Service) at Soorp Asdvadzadain Church\, 315 Church Street\, Whitinsville. Reception to follow in the Church Hall. All are welcome!
URL:https://armenianchurchofwhit.org/event/pontifical-visit/
ATTACH;FMTTYPE=image/jpeg:https://armenianchurchofwhit.org/wp-content/uploads/2024/09/Pontifical-Visit-2024-Flyer.jpg
END:VEVENT
BEGIN:VEVENT
DTSTART;VALUE=DATE:20240928
DTEND;VALUE=DATE:20240929
DTSTAMP:20260422T175411
CREATED:20240121T235801Z
LAST-MODIFIED:20240611T192608Z
UID:2452-1727481600-1727567999@armenianchurchofwhit.org
SUMMARY:Chef of the Month Dinner
DESCRIPTION:
URL:https://armenianchurchofwhit.org/event/sunday-church-luncheon-5/
END:VEVENT
BEGIN:VEVENT
DTSTART;TZID=America/New_York:20240922T100000
DTEND;TZID=America/New_York:20240922T110000
DTSTAMP:20260422T175411
CREATED:20240830T204045Z
LAST-MODIFIED:20240907T230032Z
UID:3094-1726999200-1727002800@armenianchurchofwhit.org
SUMMARY:First Day of Sunday School
DESCRIPTION:
URL:https://armenianchurchofwhit.org/event/first-day-of-sunday-school/
ATTACH;FMTTYPE=image/jpeg:https://armenianchurchofwhit.org/wp-content/uploads/2024/09/Sunday-School-2024.jpg
END:VEVENT
BEGIN:VEVENT
DTSTART;TZID=America/New_York:20240914T170000
DTEND;TZID=America/New_York:20240914T190000
DTSTAMP:20260422T175411
CREATED:20240826T210157Z
LAST-MODIFIED:20240907T225604Z
UID:3086-1726333200-1726340400@armenianchurchofwhit.org
SUMMARY:Appreciation Dinner
DESCRIPTION:
URL:https://armenianchurchofwhit.org/event/appreciation-dinner/
ATTACH;FMTTYPE=image/jpeg:https://armenianchurchofwhit.org/wp-content/uploads/2024/09/Appreciation-Dinner-Flyer.jpg
END:VEVENT
BEGIN:VEVENT
DTSTART;TZID=America/New_York:20240818T120000
DTEND;TZID=America/New_York:20240818T170000
DTSTAMP:20260422T175411
CREATED:20240121T235735Z
LAST-MODIFIED:20240708T174145Z
UID:2450-1723982400-1724000400@armenianchurchofwhit.org
SUMMARY:2024 Annual Church Picnic
DESCRIPTION:
URL:https://armenianchurchofwhit.org/event/annual-church-picnic/
ATTACH;FMTTYPE=image/jpeg:https://armenianchurchofwhit.org/wp-content/uploads/2024/07/picnic-2024.jpg
END:VEVENT
BEGIN:VEVENT
DTSTART;TZID=America/New_York:20240805T090000
DTEND;TZID=America/New_York:20240805T150000
DTSTAMP:20260422T175411
CREATED:20240308T212244Z
LAST-MODIFIED:20240308T212244Z
UID:2672-1722848400-1722870000@armenianchurchofwhit.org
SUMMARY:Dave Papazian Annual Memorial Golf Tournament
DESCRIPTION:
URL:https://armenianchurchofwhit.org/event/dave-papazian-annual-memorial-golf-tournament/
END:VEVENT
BEGIN:VEVENT
DTSTART;TZID=America/New_York:20240720T170000
DTEND;TZID=America/New_York:20240720T190000
DTSTAMP:20260422T175411
CREATED:20240121T235651Z
LAST-MODIFIED:20240715T190406Z
UID:2448-1721494800-1721502000@armenianchurchofwhit.org
SUMMARY:Chef of the Month Dinner
DESCRIPTION:
URL:https://armenianchurchofwhit.org/event/sunday-church-luncheon-4/
END:VEVENT
BEGIN:VEVENT
DTSTART;TZID=America/New_York:20240623T120000
DTEND;TZID=America/New_York:20240623T140000
DTSTAMP:20260422T175411
CREATED:20240121T235543Z
LAST-MODIFIED:20240611T195038Z
UID:2446-1719144000-1719151200@armenianchurchofwhit.org
SUMMARY:Chef of the Month Luncheon
DESCRIPTION:
URL:https://armenianchurchofwhit.org/event/sunday-church-luncheon-3/
END:VEVENT
BEGIN:VEVENT
DTSTART;TZID=America/New_York:20240616T110000
DTEND;TZID=America/New_York:20240616T130000
DTSTAMP:20260422T175411
CREATED:20240611T192039Z
LAST-MODIFIED:20240611T192039Z
UID:2870-1718535600-1718542800@armenianchurchofwhit.org
SUMMARY:Graduation Prayer Service and Celebration Luncheon
DESCRIPTION:
URL:https://armenianchurchofwhit.org/event/graduation-prayer-service-and-celebration-luncheon/
END:VEVENT
BEGIN:VEVENT
DTSTART;TZID=America/New_York:20240608T080000
DTEND;TZID=America/New_York:20240608T140000
DTSTAMP:20260422T175411
CREATED:20240121T235443Z
LAST-MODIFIED:20240505T205112Z
UID:2444-1717833600-1717855200@armenianchurchofwhit.org
SUMMARY:Annual Church Yard Sale
DESCRIPTION:
URL:https://armenianchurchofwhit.org/event/annual-church-yard-sale/
ATTACH;FMTTYPE=image/png:https://armenianchurchofwhit.org/wp-content/uploads/2024/05/Screenshot-2024-05-05-164627.png
END:VEVENT
BEGIN:VEVENT
DTSTART;TZID=America/New_York:20240527T080000
DTEND;TZID=America/New_York:20240527T120000
DTSTAMP:20260422T175411
CREATED:20240121T234940Z
LAST-MODIFIED:20240121T234940Z
UID:2442-1716796800-1716811200@armenianchurchofwhit.org
SUMMARY:Memorial Day Service at Pine Grove Cemetery
DESCRIPTION:
URL:https://armenianchurchofwhit.org/event/memorial-day-service-at-pine-grove-cemetery/
END:VEVENT
BEGIN:VEVENT
DTSTART;TZID=America/New_York:20240519T120000
DTEND;TZID=America/New_York:20240519T143000
DTSTAMP:20260422T175411
CREATED:20240121T234846Z
LAST-MODIFIED:20240121T234846Z
UID:2440-1716120000-1716129000@armenianchurchofwhit.org
SUMMARY:Sunday Church Luncheon
DESCRIPTION:
URL:https://armenianchurchofwhit.org/event/sunday-church-luncheon-2/
END:VEVENT
BEGIN:VEVENT
DTSTART;TZID=America/New_York:20240428T120000
DTEND;TZID=America/New_York:20240428T140000
DTSTAMP:20260422T175411
CREATED:20240121T234809Z
LAST-MODIFIED:20240416T184954Z
UID:2438-1714305600-1714312800@armenianchurchofwhit.org
SUMMARY:Sunday Church Luncheon
DESCRIPTION:
URL:https://armenianchurchofwhit.org/event/sunday-church-luncheon/
END:VEVENT
BEGIN:VEVENT
DTSTART;TZID=America/New_York:20240421T093000
DTEND;TZID=America/New_York:20240421T133000
DTSTAMP:20260422T175411
CREATED:20240416T185135Z
LAST-MODIFIED:20240416T185135Z
UID:2808-1713691800-1713706200@armenianchurchofwhit.org
SUMMARY:Armenian Genocide Commemoration Joint Badarak with Worcester
DESCRIPTION:
URL:https://armenianchurchofwhit.org/event/armenian-genocide-commemoration-joint-badarak-with-worcester/
END:VEVENT
BEGIN:VEVENT
DTSTART;VALUE=DATE:20240331
DTEND;VALUE=DATE:20240401
DTSTAMP:20260422T175411
CREATED:20240323T144313Z
LAST-MODIFIED:20240323T144313Z
UID:2703-1711843200-1711929599@armenianchurchofwhit.org
SUMMARY:Easter Sunday
DESCRIPTION:
URL:https://armenianchurchofwhit.org/event/easter-sunday/
END:VEVENT
BEGIN:VEVENT
DTSTART;VALUE=DATE:20240326
DTEND;VALUE=DATE:20240331
DTSTAMP:20260422T175411
CREATED:20240121T234706Z
LAST-MODIFIED:20240316T233012Z
UID:2436-1711411200-1711843199@armenianchurchofwhit.org
SUMMARY:Holy Week Services - Click on Find out more -->
DESCRIPTION:Holy Week and Easter Sunday Schedule
URL:https://armenianchurchofwhit.org/event/holy-week-services-schedule-to-be-published/
END:VEVENT
BEGIN:VEVENT
DTSTART;TZID=America/New_York:20240324T120000
DTEND;TZID=America/New_York:20240324T140000
DTSTAMP:20260422T175411
CREATED:20240225T232318Z
LAST-MODIFIED:20240316T232318Z
UID:2595-1711281600-1711288800@armenianchurchofwhit.org
SUMMARY:Palm Sunday Luncheon
DESCRIPTION:Palm Sunday Luncheon
URL:https://armenianchurchofwhit.org/event/palm-sunday-luncheon/
END:VEVENT
BEGIN:VEVENT
DTSTART;TZID=America/New_York:20240323T110000
DTEND;TZID=America/New_York:20240323T140000
DTSTAMP:20260422T175411
CREATED:20240121T234600Z
LAST-MODIFIED:20240121T234600Z
UID:2434-1711191600-1711202400@armenianchurchofwhit.org
SUMMARY:Spring Bake Sale & Dinners To Go
DESCRIPTION:
URL:https://armenianchurchofwhit.org/event/spring-bake-sale-dinners-to-go/
END:VEVENT
BEGIN:VEVENT
DTSTART;TZID=America/New_York:20240322T183000
DTEND;TZID=America/New_York:20240322T193000
DTSTAMP:20260422T175411
CREATED:20240121T234440Z
LAST-MODIFIED:20240216T233220Z
UID:2432-1711132200-1711135800@armenianchurchofwhit.org
SUMMARY:Lenten Service & Dinner
DESCRIPTION:
URL:https://armenianchurchofwhit.org/event/lenten-service-dinner-6/
END:VEVENT
BEGIN:VEVENT
DTSTART;TZID=America/New_York:20240315T183000
DTEND;TZID=America/New_York:20240315T193000
DTSTAMP:20260422T175411
CREATED:20240121T234418Z
LAST-MODIFIED:20240216T233248Z
UID:2430-1710527400-1710531000@armenianchurchofwhit.org
SUMMARY:Lenten Service & Dinner
DESCRIPTION:
URL:https://armenianchurchofwhit.org/event/lenten-service-dinner-5/
END:VEVENT
BEGIN:VEVENT
DTSTART;TZID=America/New_York:20240308T183000
DTEND;TZID=America/New_York:20240308T193000
DTSTAMP:20260422T175411
CREATED:20240121T234352Z
LAST-MODIFIED:20240216T233307Z
UID:2428-1709922600-1709926200@armenianchurchofwhit.org
SUMMARY:Lenten Service & Dinner
DESCRIPTION:
URL:https://armenianchurchofwhit.org/event/lenten-service-dinner-4/
END:VEVENT
BEGIN:VEVENT
DTSTART;TZID=America/New_York:20240301T183000
DTEND;TZID=America/New_York:20240301T193000
DTSTAMP:20260422T175411
CREATED:20240121T234319Z
LAST-MODIFIED:20240216T233328Z
UID:2426-1709317800-1709321400@armenianchurchofwhit.org
SUMMARY:Lenten Service & Dinner
DESCRIPTION:
URL:https://armenianchurchofwhit.org/event/lenten-service-dinner-3/
END:VEVENT
END:VCALENDAR