BEGIN:VCALENDAR
VERSION:2.0
PRODID:-//Armenian Apostolic Church of Whitinsville - ECPv6.15.20//NONSGML v1.0//EN
CALSCALE:GREGORIAN
METHOD:PUBLISH
X-WR-CALNAME:Armenian Apostolic Church of Whitinsville
X-ORIGINAL-URL:https://armenianchurchofwhit.org
X-WR-CALDESC:Events for Armenian Apostolic Church of Whitinsville
REFRESH-INTERVAL;VALUE=DURATION:PT1H
X-Robots-Tag:noindex
X-PUBLISHED-TTL:PT1H
BEGIN:VTIMEZONE
TZID:America/New_York
BEGIN:DAYLIGHT
TZOFFSETFROM:-0500
TZOFFSETTO:-0400
TZNAME:EDT
DTSTART:20220313T070000
END:DAYLIGHT
BEGIN:STANDARD
TZOFFSETFROM:-0400
TZOFFSETTO:-0500
TZNAME:EST
DTSTART:20221106T060000
END:STANDARD
BEGIN:DAYLIGHT
TZOFFSETFROM:-0500
TZOFFSETTO:-0400
TZNAME:EDT
DTSTART:20230312T070000
END:DAYLIGHT
BEGIN:STANDARD
TZOFFSETFROM:-0400
TZOFFSETTO:-0500
TZNAME:EST
DTSTART:20231105T060000
END:STANDARD
BEGIN:DAYLIGHT
TZOFFSETFROM:-0500
TZOFFSETTO:-0400
TZNAME:EDT
DTSTART:20240310T070000
END:DAYLIGHT
BEGIN:STANDARD
TZOFFSETFROM:-0400
TZOFFSETTO:-0500
TZNAME:EST
DTSTART:20241103T060000
END:STANDARD
BEGIN:DAYLIGHT
TZOFFSETFROM:-0500
TZOFFSETTO:-0400
TZNAME:EDT
DTSTART:20250309T070000
END:DAYLIGHT
BEGIN:STANDARD
TZOFFSETFROM:-0400
TZOFFSETTO:-0500
TZNAME:EST
DTSTART:20251102T060000
END:STANDARD
END:VTIMEZONE
BEGIN:VEVENT
DTSTART;TZID=America/New_York:20231202T100000
DTEND;TZID=America/New_York:20231202T160000
DTSTAMP:20260423T232844
CREATED:20230812T174245Z
LAST-MODIFIED:20231031T225348Z
UID:1030-1701511200-1701532800@armenianchurchofwhit.org
SUMMARY:Annual Bazaar at Pleasant Street Reformed church
DESCRIPTION:
URL:https://armenianchurchofwhit.org/event/annual-bazaar-at-pleasant-street-reformed-church/
END:VEVENT
BEGIN:VEVENT
DTSTART;VALUE=DATE:20231205
DTEND;VALUE=DATE:20240821
DTSTAMP:20260423T232844
CREATED:20230910T203629Z
LAST-MODIFIED:20231203T232140Z
UID:1955-1701734400-1724198399@armenianchurchofwhit.org
SUMMARY:Bible Study Resumes
DESCRIPTION:Tuesday Mornings 11a – 12p for beginners\nTuesday Evenings 6:30p – 7:30p\nAll Are Welcome\nFor more information contact Fr. Mikael at der.mikaeldk@gmail.com
URL:https://armenianchurchofwhit.org/event/bible-study-resumes/
END:VEVENT
BEGIN:VEVENT
DTSTART;TZID=America/New_York:20231222T180000
DTEND;TZID=America/New_York:20231222T180000
DTSTAMP:20260423T232844
CREATED:20231203T231946Z
LAST-MODIFIED:20231203T231946Z
UID:2217-1703268000-1703268000@armenianchurchofwhit.org
SUMMARY:Children's Christmas Singing of Carols (Worcester)
DESCRIPTION:
URL:https://armenianchurchofwhit.org/event/childrens-christmas-singing-of-carols-worcester/
END:VEVENT
BEGIN:VEVENT
DTSTART;VALUE=DATE:20231224
DTEND;VALUE=DATE:20231225
DTSTAMP:20260423T232844
CREATED:20230812T174412Z
LAST-MODIFIED:20231203T232043Z
UID:1032-1703376000-1703462399@armenianchurchofwhit.org
SUMMARY:Christmas Eve Candlelight Service and Singing of Carols
DESCRIPTION:
URL:https://armenianchurchofwhit.org/event/christmas-eve-candlelight-service-and-singing-of-carol/
END:VEVENT
BEGIN:VEVENT
DTSTART;TZID=America/New_York:20231230T130000
DTEND;TZID=America/New_York:20231230T160000
DTSTAMP:20260423T232844
CREATED:20231217T215625Z
LAST-MODIFIED:20231217T220452Z
UID:2262-1703941200-1703952000@armenianchurchofwhit.org
SUMMARY:Men's Club Christmas Fellowship Lunch
DESCRIPTION:RSVP\, Reservations Required: Email  soorpasdvadzadzin@gmail.com
URL:https://armenianchurchofwhit.org/event/mens-club-christmas-fellowship-lunch/
END:VEVENT
END:VCALENDAR