BEGIN:VCALENDAR
VERSION:2.0
PRODID:-//Armenian Apostolic Church of Whitinsville - ECPv6.15.20//NONSGML v1.0//EN
CALSCALE:GREGORIAN
METHOD:PUBLISH
X-ORIGINAL-URL:https://armenianchurchofwhit.org
X-WR-CALDESC:Events for Armenian Apostolic Church of Whitinsville
REFRESH-INTERVAL;VALUE=DURATION:PT1H
X-Robots-Tag:noindex
X-PUBLISHED-TTL:PT1H
BEGIN:VTIMEZONE
TZID:America/New_York
BEGIN:DAYLIGHT
TZOFFSETFROM:-0500
TZOFFSETTO:-0400
TZNAME:EDT
DTSTART:20220313T070000
END:DAYLIGHT
BEGIN:STANDARD
TZOFFSETFROM:-0400
TZOFFSETTO:-0500
TZNAME:EST
DTSTART:20221106T060000
END:STANDARD
BEGIN:DAYLIGHT
TZOFFSETFROM:-0500
TZOFFSETTO:-0400
TZNAME:EDT
DTSTART:20230312T070000
END:DAYLIGHT
BEGIN:STANDARD
TZOFFSETFROM:-0400
TZOFFSETTO:-0500
TZNAME:EST
DTSTART:20231105T060000
END:STANDARD
BEGIN:DAYLIGHT
TZOFFSETFROM:-0500
TZOFFSETTO:-0400
TZNAME:EDT
DTSTART:20240310T070000
END:DAYLIGHT
BEGIN:STANDARD
TZOFFSETFROM:-0400
TZOFFSETTO:-0500
TZNAME:EST
DTSTART:20241103T060000
END:STANDARD
BEGIN:DAYLIGHT
TZOFFSETFROM:-0500
TZOFFSETTO:-0400
TZNAME:EDT
DTSTART:20250309T070000
END:DAYLIGHT
BEGIN:STANDARD
TZOFFSETFROM:-0400
TZOFFSETTO:-0500
TZNAME:EST
DTSTART:20251102T060000
END:STANDARD
END:VTIMEZONE
BEGIN:VEVENT
DTSTART;VALUE=DATE:20231205
DTEND;VALUE=DATE:20240821
DTSTAMP:20260423T193159
CREATED:20230910T203629Z
LAST-MODIFIED:20231203T232140Z
UID:1955-1701734400-1724198399@armenianchurchofwhit.org
SUMMARY:Bible Study Resumes
DESCRIPTION:Tuesday Mornings 11a – 12p for beginners\nTuesday Evenings 6:30p – 7:30p\nAll Are Welcome\nFor more information contact Fr. Mikael at der.mikaeldk@gmail.com
URL:https://armenianchurchofwhit.org/event/bible-study-resumes/
END:VEVENT
BEGIN:VEVENT
DTSTART;TZID=America/New_York:20240301T183000
DTEND;TZID=America/New_York:20240301T193000
DTSTAMP:20260423T193159
CREATED:20240121T234319Z
LAST-MODIFIED:20240216T233328Z
UID:2426-1709317800-1709321400@armenianchurchofwhit.org
SUMMARY:Lenten Service & Dinner
DESCRIPTION:
URL:https://armenianchurchofwhit.org/event/lenten-service-dinner-3/
END:VEVENT
BEGIN:VEVENT
DTSTART;TZID=America/New_York:20240308T183000
DTEND;TZID=America/New_York:20240308T193000
DTSTAMP:20260423T193159
CREATED:20240121T234352Z
LAST-MODIFIED:20240216T233307Z
UID:2428-1709922600-1709926200@armenianchurchofwhit.org
SUMMARY:Lenten Service & Dinner
DESCRIPTION:
URL:https://armenianchurchofwhit.org/event/lenten-service-dinner-4/
END:VEVENT
BEGIN:VEVENT
DTSTART;TZID=America/New_York:20240315T183000
DTEND;TZID=America/New_York:20240315T193000
DTSTAMP:20260423T193159
CREATED:20240121T234418Z
LAST-MODIFIED:20240216T233248Z
UID:2430-1710527400-1710531000@armenianchurchofwhit.org
SUMMARY:Lenten Service & Dinner
DESCRIPTION:
URL:https://armenianchurchofwhit.org/event/lenten-service-dinner-5/
END:VEVENT
BEGIN:VEVENT
DTSTART;TZID=America/New_York:20240322T183000
DTEND;TZID=America/New_York:20240322T193000
DTSTAMP:20260423T193159
CREATED:20240121T234440Z
LAST-MODIFIED:20240216T233220Z
UID:2432-1711132200-1711135800@armenianchurchofwhit.org
SUMMARY:Lenten Service & Dinner
DESCRIPTION:
URL:https://armenianchurchofwhit.org/event/lenten-service-dinner-6/
END:VEVENT
BEGIN:VEVENT
DTSTART;TZID=America/New_York:20240323T110000
DTEND;TZID=America/New_York:20240323T140000
DTSTAMP:20260423T193159
CREATED:20240121T234600Z
LAST-MODIFIED:20240121T234600Z
UID:2434-1711191600-1711202400@armenianchurchofwhit.org
SUMMARY:Spring Bake Sale & Dinners To Go
DESCRIPTION:
URL:https://armenianchurchofwhit.org/event/spring-bake-sale-dinners-to-go/
END:VEVENT
BEGIN:VEVENT
DTSTART;TZID=America/New_York:20240324T120000
DTEND;TZID=America/New_York:20240324T140000
DTSTAMP:20260423T193159
CREATED:20240225T232318Z
LAST-MODIFIED:20240316T232318Z
UID:2595-1711281600-1711288800@armenianchurchofwhit.org
SUMMARY:Palm Sunday Luncheon
DESCRIPTION:Palm Sunday Luncheon
URL:https://armenianchurchofwhit.org/event/palm-sunday-luncheon/
END:VEVENT
BEGIN:VEVENT
DTSTART;VALUE=DATE:20240326
DTEND;VALUE=DATE:20240331
DTSTAMP:20260423T193159
CREATED:20240121T234706Z
LAST-MODIFIED:20240316T233012Z
UID:2436-1711411200-1711843199@armenianchurchofwhit.org
SUMMARY:Holy Week Services - Click on Find out more -->
DESCRIPTION:Holy Week and Easter Sunday Schedule
URL:https://armenianchurchofwhit.org/event/holy-week-services-schedule-to-be-published/
END:VEVENT
BEGIN:VEVENT
DTSTART;VALUE=DATE:20240331
DTEND;VALUE=DATE:20240401
DTSTAMP:20260423T193159
CREATED:20240323T144313Z
LAST-MODIFIED:20240323T144313Z
UID:2703-1711843200-1711929599@armenianchurchofwhit.org
SUMMARY:Easter Sunday
DESCRIPTION:
URL:https://armenianchurchofwhit.org/event/easter-sunday/
END:VEVENT
END:VCALENDAR