BEGIN:VCALENDAR
VERSION:2.0
PRODID:-//Armenian Apostolic Church of Whitinsville - ECPv6.15.20//NONSGML v1.0//EN
CALSCALE:GREGORIAN
METHOD:PUBLISH
X-ORIGINAL-URL:https://armenianchurchofwhit.org
X-WR-CALDESC:Events for Armenian Apostolic Church of Whitinsville
REFRESH-INTERVAL;VALUE=DURATION:PT1H
X-Robots-Tag:noindex
X-PUBLISHED-TTL:PT1H
BEGIN:VTIMEZONE
TZID:America/New_York
BEGIN:DAYLIGHT
TZOFFSETFROM:-0500
TZOFFSETTO:-0400
TZNAME:EDT
DTSTART:20230312T070000
END:DAYLIGHT
BEGIN:STANDARD
TZOFFSETFROM:-0400
TZOFFSETTO:-0500
TZNAME:EST
DTSTART:20231105T060000
END:STANDARD
BEGIN:DAYLIGHT
TZOFFSETFROM:-0500
TZOFFSETTO:-0400
TZNAME:EDT
DTSTART:20240310T070000
END:DAYLIGHT
BEGIN:STANDARD
TZOFFSETFROM:-0400
TZOFFSETTO:-0500
TZNAME:EST
DTSTART:20241103T060000
END:STANDARD
BEGIN:DAYLIGHT
TZOFFSETFROM:-0500
TZOFFSETTO:-0400
TZNAME:EDT
DTSTART:20250309T070000
END:DAYLIGHT
BEGIN:STANDARD
TZOFFSETFROM:-0400
TZOFFSETTO:-0500
TZNAME:EST
DTSTART:20251102T060000
END:STANDARD
END:VTIMEZONE
BEGIN:VEVENT
DTSTART;TZID=America/New_York:20241207T100000
DTEND;TZID=America/New_York:20241207T163000
DTSTAMP:20260423T064034
CREATED:20240323T144612Z
LAST-MODIFIED:20241108T232041Z
UID:2707-1733565600-1733589000@armenianchurchofwhit.org
SUMMARY:Annual Church Bazaar
DESCRIPTION:
URL:https://armenianchurchofwhit.org/event/annual-church-bazaar/
ATTACH;FMTTYPE=image/jpeg:https://armenianchurchofwhit.org/wp-content/uploads/2024/11/Bazaar-2024.jpg
END:VEVENT
BEGIN:VEVENT
DTSTART;TZID=America/New_York:20241222T120000
DTEND;TZID=America/New_York:20241222T130000
DTSTAMP:20260423T064034
CREATED:20241213T214226Z
LAST-MODIFIED:20241213T214226Z
UID:3376-1734868800-1734872400@armenianchurchofwhit.org
SUMMARY:Christmas Party Hosted by our Sunday School
DESCRIPTION:
URL:https://armenianchurchofwhit.org/event/christmas-party-hosted-by-our-sunday-school/
END:VEVENT
BEGIN:VEVENT
DTSTART;TZID=America/New_York:20241224T180000
DTEND;TZID=America/New_York:20241224T190000
DTSTAMP:20260423T064034
CREATED:20240819T172900Z
LAST-MODIFIED:20241223T001549Z
UID:3025-1735063200-1735066800@armenianchurchofwhit.org
SUMMARY:Christmas Eve Candlelight Service and Carols
DESCRIPTION:
URL:https://armenianchurchofwhit.org/event/christmas-eve-candlelight-service-and-carols/
ATTACH;FMTTYPE=image/jpeg:https://armenianchurchofwhit.org/wp-content/uploads/2024/12/xmas-eve-carols.jpg
END:VEVENT
END:VCALENDAR