BEGIN:VCALENDAR
VERSION:2.0
PRODID:-//Armenian Apostolic Church of Whitinsville - ECPv6.15.20//NONSGML v1.0//EN
CALSCALE:GREGORIAN
METHOD:PUBLISH
X-ORIGINAL-URL:https://armenianchurchofwhit.org
X-WR-CALDESC:Events for Armenian Apostolic Church of Whitinsville
REFRESH-INTERVAL;VALUE=DURATION:PT1H
X-Robots-Tag:noindex
X-PUBLISHED-TTL:PT1H
BEGIN:VTIMEZONE
TZID:America/New_York
BEGIN:DAYLIGHT
TZOFFSETFROM:-0500
TZOFFSETTO:-0400
TZNAME:EDT
DTSTART:20240310T070000
END:DAYLIGHT
BEGIN:STANDARD
TZOFFSETFROM:-0400
TZOFFSETTO:-0500
TZNAME:EST
DTSTART:20241103T060000
END:STANDARD
BEGIN:DAYLIGHT
TZOFFSETFROM:-0500
TZOFFSETTO:-0400
TZNAME:EDT
DTSTART:20250309T070000
END:DAYLIGHT
BEGIN:STANDARD
TZOFFSETFROM:-0400
TZOFFSETTO:-0500
TZNAME:EST
DTSTART:20251102T060000
END:STANDARD
BEGIN:DAYLIGHT
TZOFFSETFROM:-0500
TZOFFSETTO:-0400
TZNAME:EDT
DTSTART:20260308T070000
END:DAYLIGHT
BEGIN:STANDARD
TZOFFSETFROM:-0400
TZOFFSETTO:-0500
TZNAME:EST
DTSTART:20261101T060000
END:STANDARD
END:VTIMEZONE
BEGIN:VEVENT
DTSTART;TZID=America/New_York:20250404T183000
DTEND;TZID=America/New_York:20250404T193000
DTSTAMP:20260423T013452
CREATED:20250306T205138Z
LAST-MODIFIED:20250324T194924Z
UID:3455-1743791400-1743795000@armenianchurchofwhit.org
SUMMARY:Lenten Service & Dinner
DESCRIPTION:
URL:https://armenianchurchofwhit.org/event/lenten-service-dinner-11/
ATTACH;FMTTYPE=image/jpeg:https://armenianchurchofwhit.org/wp-content/uploads/2025/03/Lent-2025-logo.jpg
END:VEVENT
BEGIN:VEVENT
DTSTART;TZID=America/New_York:20250411T183000
DTEND;TZID=America/New_York:20250411T193000
DTSTAMP:20260423T013452
CREATED:20250306T205213Z
LAST-MODIFIED:20250324T194946Z
UID:3457-1744396200-1744399800@armenianchurchofwhit.org
SUMMARY:Lenten Service & Dinner
DESCRIPTION:
URL:https://armenianchurchofwhit.org/event/lenten-service-dinner-12/
ATTACH;FMTTYPE=image/jpeg:https://armenianchurchofwhit.org/wp-content/uploads/2025/03/Lent-2025-logo.jpg
END:VEVENT
BEGIN:VEVENT
DTSTART;TZID=America/New_York:20250412T110000
DTEND;TZID=America/New_York:20250412T130000
DTSTAMP:20260423T013452
CREATED:20250306T215134Z
LAST-MODIFIED:20250307T005842Z
UID:3467-1744455600-1744462800@armenianchurchofwhit.org
SUMMARY:Spring Bake Sale - April 12\, 2025
DESCRIPTION:Click on Link \nSpring Bake Sale Order Form – 2025
URL:https://armenianchurchofwhit.org/event/spring-bake-sale/
END:VEVENT
BEGIN:VEVENT
DTSTART;TZID=America/New_York:20250413T100000
DTEND;TZID=America/New_York:20250413T133000
DTSTAMP:20260423T013452
CREATED:20250307T010854Z
LAST-MODIFIED:20250307T010854Z
UID:3483-1744538400-1744551000@armenianchurchofwhit.org
SUMMARY:Palm Sunday & Luncheon
DESCRIPTION:
URL:https://armenianchurchofwhit.org/event/palm-sunday-luncheon-2/
END:VEVENT
BEGIN:VEVENT
DTSTART;VALUE=DATE:20250415
DTEND;VALUE=DATE:20250416
DTSTAMP:20260423T013452
CREATED:20250307T011008Z
LAST-MODIFIED:20250307T011008Z
UID:3485-1744675200-1744761599@armenianchurchofwhit.org
SUMMARY:Holy Tuesday Remembrance of the Ten Virgins
DESCRIPTION:
URL:https://armenianchurchofwhit.org/event/holy-tuesday-remembrance-of-the-ten-virgins/
END:VEVENT
BEGIN:VEVENT
DTSTART;VALUE=DATE:20250417
DTEND;VALUE=DATE:20250418
DTSTAMP:20260423T013452
CREATED:20250307T011034Z
LAST-MODIFIED:20250307T011034Z
UID:3487-1744848000-1744934399@armenianchurchofwhit.org
SUMMARY:Holy Thursday
DESCRIPTION:
URL:https://armenianchurchofwhit.org/event/holy-thursday/
END:VEVENT
BEGIN:VEVENT
DTSTART;TZID=America/New_York:20250418T080000
DTEND;TZID=America/New_York:20250418T170000
DTSTAMP:20260423T013452
CREATED:20250307T011103Z
LAST-MODIFIED:20250307T011103Z
UID:3489-1744963200-1744995600@armenianchurchofwhit.org
SUMMARY:Holy Friday (Good Friday)
DESCRIPTION:
URL:https://armenianchurchofwhit.org/event/holy-friday-good-friday/
END:VEVENT
BEGIN:VEVENT
DTSTART;VALUE=DATE:20250419
DTEND;VALUE=DATE:20250420
DTSTAMP:20260423T013452
CREATED:20250307T011209Z
LAST-MODIFIED:20250307T011209Z
UID:3491-1745020800-1745107199@armenianchurchofwhit.org
SUMMARY:Holy Saturday Communion Breakfast and Easter Eve Badarak
DESCRIPTION:
URL:https://armenianchurchofwhit.org/event/holy-saturday-communion-breakfast-and-easter-eve-badarak/
END:VEVENT
BEGIN:VEVENT
DTSTART;TZID=America/New_York:20250420T090000
DTEND;TZID=America/New_York:20250420T130000
DTSTAMP:20260423T013452
CREATED:20250307T011301Z
LAST-MODIFIED:20250307T011301Z
UID:3493-1745139600-1745154000@armenianchurchofwhit.org
SUMMARY:Easter Sunday
DESCRIPTION:
URL:https://armenianchurchofwhit.org/event/easter-sunday-2/
END:VEVENT
END:VCALENDAR