BEGIN:VCALENDAR
VERSION:2.0
PRODID:-//Armenian Apostolic Church of Whitinsville - ECPv6.15.20//NONSGML v1.0//EN
CALSCALE:GREGORIAN
METHOD:PUBLISH
X-ORIGINAL-URL:https://armenianchurchofwhit.org
X-WR-CALDESC:Events for Armenian Apostolic Church of Whitinsville
REFRESH-INTERVAL;VALUE=DURATION:PT1H
X-Robots-Tag:noindex
X-PUBLISHED-TTL:PT1H
BEGIN:VTIMEZONE
TZID:America/New_York
BEGIN:DAYLIGHT
TZOFFSETFROM:-0500
TZOFFSETTO:-0400
TZNAME:EDT
DTSTART:20250309T070000
END:DAYLIGHT
BEGIN:STANDARD
TZOFFSETFROM:-0400
TZOFFSETTO:-0500
TZNAME:EST
DTSTART:20251102T060000
END:STANDARD
BEGIN:DAYLIGHT
TZOFFSETFROM:-0500
TZOFFSETTO:-0400
TZNAME:EDT
DTSTART:20260308T070000
END:DAYLIGHT
BEGIN:STANDARD
TZOFFSETFROM:-0400
TZOFFSETTO:-0500
TZNAME:EST
DTSTART:20261101T060000
END:STANDARD
BEGIN:DAYLIGHT
TZOFFSETFROM:-0500
TZOFFSETTO:-0400
TZNAME:EDT
DTSTART:20270314T070000
END:DAYLIGHT
BEGIN:STANDARD
TZOFFSETFROM:-0400
TZOFFSETTO:-0500
TZNAME:EST
DTSTART:20271107T060000
END:STANDARD
END:VTIMEZONE
BEGIN:VEVENT
DTSTART;TZID=America/New_York:20260328T110000
DTEND;TZID=America/New_York:20260328T130000
DTSTAMP:20260422T115012
CREATED:20260318T180833Z
LAST-MODIFIED:20260318T180833Z
UID:3803-1774695600-1774702800@armenianchurchofwhit.org
SUMMARY:Spring Bake Sale
DESCRIPTION:
URL:https://armenianchurchofwhit.org/event/spring-bake-sale-2/
END:VEVENT
BEGIN:VEVENT
DTSTART;TZID=America/New_York:20260329T100000
DTEND;TZID=America/New_York:20260329T150000
DTSTAMP:20260422T115012
CREATED:20260318T175821Z
LAST-MODIFIED:20260318T175821Z
UID:3791-1774778400-1774796400@armenianchurchofwhit.org
SUMMARY:Palm Sunday Celebration and Dinner
DESCRIPTION:
URL:https://armenianchurchofwhit.org/event/palm-sunday-celebration-and-dinner/
END:VEVENT
BEGIN:VEVENT
DTSTART;TZID=America/New_York:20260331T183000
DTEND;TZID=America/New_York:20260331T203000
DTSTAMP:20260422T115012
CREATED:20260318T175956Z
LAST-MODIFIED:20260329T215436Z
UID:3793-1774981800-1774989000@armenianchurchofwhit.org
SUMMARY:Holy Tuesday Remembrance of the Ten Virgins -- At Holy Trinity
DESCRIPTION:
URL:https://armenianchurchofwhit.org/event/holy-tuesday-remembrance-of-the-ten-virgins-at-holy-trinity/
END:VEVENT
END:VCALENDAR